BEGIN:VCALENDAR
VERSION:2.0
PRODID:-//hacksw/handcal//NONSGML v1.0//EN
CALSCALE:GREGORIAN
BEGIN:VEVENT
LOCATION:Hitchcock Nature Center\, 27792 Ski Hill Loop\, Honey Creek\, Iowa 51542
DESCRIPTION:Join&nbsp\;avid birder\, Nic Salick\, for an evening guided hike&nbsp\;where you&#039\;ll learn about local birds while walking in Iowa&#039\;s beautiful Loess Hills.
DTSTART:20260526T193000
DTEND:20260526T210000
SUMMARY:Sunset Bird Hike with Nic Salick
URL;VALUE=URI:https://www.pottconservation.com/calendar/sunset_bird_hike_with_nic_salick/2026-05-26/
DTSTAMP:20260423T095043
UID:69ea31c3883b8
END:VEVENT
END:VCALENDAR