BEGIN:VCALENDAR
VERSION:2.0
PRODID:-//hacksw/handcal//NONSGML v1.0//EN
CALSCALE:GREGORIAN
BEGIN:VEVENT
LOCATION:Botna Bend Park\, 42926 Mahogany Road\, Hancock\, Iowa 51536
DESCRIPTION:Join Dustin Clayton by the banks of the West Nishnabotna river for a discussion centering on the rocks\, minerals\, and fossils common to western Iowa.
DTSTART:20220716T100000
DTEND:20220716T123000
SUMMARY:The Hidden Lore of Gravel | With Dustin Clayton
URL;VALUE=URI:https://www.pottconservation.com/calendar/the_hidden_lore_of_gravel_with_dustin_clayton/2022-07-16/
DTSTAMP:20260421T021814
UID:69e724b67659a
END:VEVENT
END:VCALENDAR