BEGIN:VCALENDAR
VERSION:2.0
PRODID:-//hacksw/handcal//NONSGML v1.0//EN
CALSCALE:GREGORIAN
BEGIN:VEVENT
LOCATION:Hitchcock Nature Center\, 27792 Ski Hill Loop\, Honey Creek\, Iowa 51542
DESCRIPTION:Runners come from all over to test their skills in Iowa&#039\;s Loess Hills. 
DTSTART:20211211T050000
DTEND:20211211T233000
SUMMARY:The Hitchcock Experience Endurance Run
URL;VALUE=URI:https://www.pottconservation.com/calendar/the_hitchcock_experience_endurance_run/2021-12-11/
DTSTAMP:20260421T094643
UID:69e78dd33bc28
END:VEVENT
END:VCALENDAR