BEGIN:VCALENDAR
VERSION:2.0
PRODID:-//hacksw/handcal//NONSGML v1.0//EN
CALSCALE:GREGORIAN
BEGIN:VEVENT
LOCATION:Hitchcock Nature Center\, 27792 Ski Hill Loop\, Honey Creek\, Iowa 51542
DESCRIPTION:Look deeply at the plethora of folklore and myth associated with this busy month&nbsp\;as the forest fills up with life\, color\, and sound.
DTSTART:20220507T140000
DTEND:20220507T163000
SUMMARY:The Merry Month of May: Part 1 | With Dustin Clayton
URL;VALUE=URI:https://www.pottconservation.com/calendar/the_merry_month_of_may_part_1_with_dustin_clayton/2022-05-07/
DTSTAMP:20260423T082455
UID:69ea1da7b4d0d
END:VEVENT
END:VCALENDAR