BEGIN:VCALENDAR
VERSION:2.0
PRODID:-//hacksw/handcal//NONSGML v1.0//EN
CALSCALE:GREGORIAN
BEGIN:VEVENT
LOCATION:Hitchcock Nature Center\, 27792 Ski Hill Loop\, Honey Creek\, Iowa 51542
DESCRIPTION:Look deeply at the plethora of folklore and myth associated with this busy month&nbsp\;as the forest fills up with life\, color\, and sound.
DTSTART:20220528T140000
DTEND:20220528T163000
SUMMARY:The Merry Month of May: Part 2 | With Dustin Clayton
URL;VALUE=URI:https://www.pottconservation.com/calendar/the_merry_month_of_may_part_2_with_dustin_clayton/2022-05-28/
DTSTAMP:20260423T082255
UID:69ea1d2fec9cf
END:VEVENT
END:VCALENDAR