BEGIN:VCALENDAR
VERSION:2.0
PRODID:-//hacksw/handcal//NONSGML v1.0//EN
CALSCALE:GREGORIAN
BEGIN:VEVENT
LOCATION:Hitchcock Nature Center\, 27792 Ski Hill Loop\, Honey Creek\, Iowa 51542
DESCRIPTION:Explore nature &amp\; philosophy during this immersive program perfect for anyone who loves the great outdoors. 
DTSTART:20211016T090000
DTEND:20211016T120000
SUMMARY:The Science of Fall
URL;VALUE=URI:https://www.pottconservation.com/calendar/the_science_of_fall/2021-10-16/
DTSTAMP:20260421T071122
UID:69e7696a2f4fd
END:VEVENT
END:VCALENDAR