BEGIN:VCALENDAR
VERSION:2.0
PRODID:-//hacksw/handcal//NONSGML v1.0//EN
CALSCALE:GREGORIAN
BEGIN:VEVENT
LOCATION:Hitchcock Nature Center\, 27792 Ski Hill Loop\, Honey Creek\, Iowa 51542
DESCRIPTION:Grab a shovel and work up a sweat with the Loess Hills Nordic Ski Patrol doing trail work and maintenance on National Trails Day!
DTSTART:20220604T150000
DTEND:20220604T170000
SUMMARY:Trailblazer Bonanza | Afternoon Block
URL;VALUE=URI:https://www.pottconservation.com/calendar/trail_blazer_bonanza_afternoon_block/2022-06-04/
DTSTAMP:20260425T064441
UID:69eca929e59cd
END:VEVENT
END:VCALENDAR