BEGIN:VCALENDAR
VERSION:2.0
PRODID:-//hacksw/handcal//NONSGML v1.0//EN
CALSCALE:GREGORIAN
BEGIN:VEVENT
LOCATION:Hitchcock Nature Center\, 27792 Ski Hill Loop\, Honey Creek\, Iowa 51542
DESCRIPTION:Explore nature &amp\; philosophy during this immersive program perfect for anyone who loves the great outdoors. 
DTSTART:20210320T090000
DTEND:20210320T120000
SUMMARY:Waterfowl Identification
URL;VALUE=URI:https://www.pottconservation.com/calendar/waterfowl_identification/2021-03-20/
DTSTAMP:20260420T200742
UID:69e6cdde6097e
END:VEVENT
END:VCALENDAR