BEGIN:VCALENDAR
VERSION:2.0
PRODID:-//hacksw/handcal//NONSGML v1.0//EN
CALSCALE:GREGORIAN
BEGIN:VEVENT
LOCATION:Arrowhead Park\, 29357 310th Street\, Neola\, Iowa 51559
DESCRIPTION:Campers entering 1st &amp\; 2nd-grade head to Arrowhead Park for a close up look at aquatic habitats.
DTSTART:20210713T080000
DTEND:20210713T130000
SUMMARY:Wild Ones at Arrowhead Park
URL;VALUE=URI:https://www.pottconservation.com/calendar/wild_ones_at_arrowhead_park/2021-07-13/
DTSTAMP:20260421T021636
UID:69e724549da87
END:VEVENT
END:VCALENDAR