BEGIN:VCALENDAR
VERSION:2.0
PRODID:-//hacksw/handcal//NONSGML v1.0//EN
CALSCALE:GREGORIAN
BEGIN:VEVENT
LOCATION:Hitchcock Nature Center\, 27792 Ski Hill Loop\, Honey Creek\, Iowa 51542
DESCRIPTION:Campers entering 1st &amp\; 2nd grade will enjoy exploring Iowa&#039\;s Loess Hills during this immersive camp.
DTSTART:20210615T080000
DTEND:20210615T130000
SUMMARY:Wild Ones at Hitchcock Nature Center
URL;VALUE=URI:https://www.pottconservation.com/calendar/wild_ones_at_hitchcock_nature_center/2021-06-15/
DTSTAMP:20260421T004343
UID:69e70e8ff393c
END:VEVENT
END:VCALENDAR