BEGIN:VCALENDAR
VERSION:2.0
PRODID:-//hacksw/handcal//NONSGML v1.0//EN
CALSCALE:GREGORIAN
BEGIN:VEVENT
LOCATION:Arrowhead Park\, 29357 310th Street\, Neola\, Iowa 51559
DESCRIPTION:Venture into the wild during this immersive camp experience packed full of outdoor fun like fort building\, water exploration\, hiking\, outdoor games\, nature crafts\, &amp\; more!
DTSTART:20250603T080000
DTEND:20250603T130000
SUMMARY:Wild Ones Summer Camp | Arrowhead Park
URL;VALUE=URI:https://www.pottconservation.com/calendar/wild_ones_summer_carrowhead_park/2025-06-03/
DTSTAMP:20260420T175804
UID:69e6af7c6fa62
END:VEVENT
END:VCALENDAR