BEGIN:VCALENDAR
VERSION:2.0
PRODID:-//hacksw/handcal//NONSGML v1.0//EN
CALSCALE:GREGORIAN
BEGIN:VEVENT
LOCATION:Botna Bend Park\, 42926 Mahogany Road\, Hancock\, Iowa 51536
DESCRIPTION:Venture into the wild during this immersive camp experience packed full of outdoor fun like fort building\, water exploration\, hiking\, outdoor games\, nature crafts\, &amp\; more!
DTSTART:20250610T080000
DTEND:20250610T130000
SUMMARY:Wild Ones Summer Camp | Botna Bend Park
URL;VALUE=URI:https://www.pottconservation.com/calendar/wild_ones_summer_cbotna_bend_park/2025-06-10/
DTSTAMP:20260420T174727
UID:69e6acff18ac8
END:VEVENT
END:VCALENDAR