BEGIN:VCALENDAR
VERSION:2.0
PRODID:-//hacksw/handcal//NONSGML v1.0//EN
CALSCALE:GREGORIAN
BEGIN:VEVENT
LOCATION:Hitchcock Nature Center\, 27792 Ski Hill Loop\, Honey Creek\, Iowa 51542
DESCRIPTION:Venture into the wild during this immersive camp experience packed full of outdoor fun like fort building\, water exploration\, hiking\, outdoor games\, nature crafts\, &amp\; more!
DTSTART:20250722T080000
DTEND:20250722T130000
SUMMARY:Wild Ones Summer Camp | Hitchcock Nature Center
URL;VALUE=URI:https://www.pottconservation.com/calendar/wild_ones_summer_chitchcock_nature_center/2025-07-22/
DTSTAMP:20260420T180053
UID:69e6b025ec2af
END:VEVENT
END:VCALENDAR