BEGIN:VCALENDAR
VERSION:2.0
PRODID:-//hacksw/handcal//NONSGML v1.0//EN
CALSCALE:GREGORIAN
BEGIN:VEVENT
LOCATION:Arrowhead Park\, 29357 310th Street\, Neola\, Iowa 51559
DESCRIPTION:Campers entering 3rd and 4th grade will continue to grow in their outdoor confidence as we tackle some new skills during this 3-day camp.
DTSTART:20210720T080000
DTEND:20210720T130000
SUMMARY:Wild Seekers at Arrowhead Park
URL;VALUE=URI:https://www.pottconservation.com/calendar/wild_seekers_at_arrowhead_park/2021-07-20/
DTSTAMP:20260421T022003
UID:69e725235760c
END:VEVENT
END:VCALENDAR