BEGIN:VCALENDAR
VERSION:2.0
PRODID:-//hacksw/handcal//NONSGML v1.0//EN
CALSCALE:GREGORIAN
BEGIN:VEVENT
LOCATION:Hitchcock Nature Center\, 27792 Ski Hill Loop\, Honey Creek\, Iowa 51542
DESCRIPTION:Campers entering 3rd &amp\; 4th grade will continue to grow in their outdoor confidence as we tackle some new skills during this 3-day camp.
DTSTART:20210622T080000
DTEND:20210622T130000
SUMMARY:Wild Seekers at Hitchcock Nature Center
URL;VALUE=URI:https://www.pottconservation.com/calendar/wild_seekers_at_hitchcock_nature_center/2021-06-22/
DTSTAMP:20260421T004222
UID:69e70e3e426b3
END:VEVENT
END:VCALENDAR