BEGIN:VCALENDAR
VERSION:2.0
PRODID:-//hacksw/handcal//NONSGML v1.0//EN
CALSCALE:GREGORIAN
BEGIN:VEVENT
LOCATION:Arrowhead Park\, 29357 310th Street\, Neola\, Iowa 51559
DESCRIPTION:Campers will enjoy beginning archery lessons\, canoeing\, shelter building challenges\, hiking\, plant and&nbsp\;animal identification\, and&nbsp\;nature crafts.
DTSTART:20220719T080000
DTEND:20220719T130000
SUMMARY:Wild Seekers Summer Camp | Arrowhead
URL;VALUE=URI:https://www.pottconservation.com/calendar/wild_seekers_summer_carrowhead/2022-07-19/
DTSTAMP:20260422T080327
UID:69e8c71f604f6
END:VEVENT
END:VCALENDAR