BEGIN:VCALENDAR
VERSION:2.0
PRODID:-//hacksw/handcal//NONSGML v1.0//EN
CALSCALE:GREGORIAN
BEGIN:VEVENT
LOCATION:Arrowhead Park\, 29357 310th Street\, Neola\, Iowa 51559
DESCRIPTION:Campers entering 5th &amp\; 6th grade will continue to grow in their outdoor confidence as we work on advancing our skills during this 3-day camp.
DTSTART:20210727T080000
DTEND:20210727T130000
SUMMARY:Wild Wanderers at Arrowhead Park
URL;VALUE=URI:https://www.pottconservation.com/calendar/wild_wanderers_at_arrowhead_park/2021-07-27/
DTSTAMP:20260421T021510
UID:69e723fea1fd8
END:VEVENT
END:VCALENDAR