BEGIN:VCALENDAR
VERSION:2.0
PRODID:-//hacksw/handcal//NONSGML v1.0//EN
CALSCALE:GREGORIAN
BEGIN:VEVENT
LOCATION:Hitchcock Nature Center\, 27792 Ski Hill Loop\, Honey Creek\, Iowa 51542
DESCRIPTION:Campers entering 5th &amp\; 6th grade will continue to grow in their outdoor confidence as we tackle some new skills during this 3-day camp.
DTSTART:20210629T080000
DTEND:20210629T130000
SUMMARY:Wild Wanderers at Hitchcock Nature Center
URL;VALUE=URI:https://www.pottconservation.com/calendar/wild_wanderers_at_hitchcock_nature_center/2021-06-29/
DTSTAMP:20260421T004329
UID:69e70e813116c
END:VEVENT
END:VCALENDAR