BEGIN:VCALENDAR
VERSION:2.0
PRODID:-//hacksw/handcal//NONSGML v1.0//EN
CALSCALE:GREGORIAN
BEGIN:VEVENT
LOCATION:Hitchcock Nature Center\, 27792 Ski Hill Loop\, Honey Creek\, Iowa 51542
DESCRIPTION:Campers will continue growing their outdoor survival skills through archery lessons\, advanced shelter building\, and fire building during this hands-on camp.
DTSTART:20220621T080000
DTEND:20220621T130000
SUMMARY:Wild Wanderers Summer Camp
URL;VALUE=URI:https://www.pottconservation.com/calendar/wild_wanderers_summer_camp/2022-06-21/
DTSTAMP:20260422T073452
UID:69e8c06ccea39
END:VEVENT
END:VCALENDAR