BEGIN:VCALENDAR
VERSION:2.0
PRODID:-//hacksw/handcal//NONSGML v1.0//EN
CALSCALE:GREGORIAN
BEGIN:VEVENT
LOCATION:Arrowhead Park\, 29357 310th Street\, Neola\, Iowa 51559
DESCRIPTION:Embark on an unforgettable journey into the heart of the wild\, learning about the untamed wonders of the great outdoors while honing skills in archery\, primitive fire building\, orienteering\, whittling\, and more!
DTSTART:20250708T080000
DTEND:20250708T130000
SUMMARY:Wild Wanderers Summer Camp | Arrowhead Park
URL;VALUE=URI:https://www.pottconservation.com/calendar/wild_wanderers_summer_carrowhead_park/2025-07-08/
DTSTAMP:20260420T174726
UID:69e6acfea3604
END:VEVENT
END:VCALENDAR