BEGIN:VCALENDAR
VERSION:2.0
PRODID:-//hacksw/handcal//NONSGML v1.0//EN
CALSCALE:GREGORIAN
BEGIN:VEVENT
LOCATION:Botna Bend Park\, 42926 Mahogany Road\, Hancock\, Iowa 51536
DESCRIPTION:Embark on an unforgettable journey into the heart of the wild\, learning about the untamed wonders of the great outdoors while honing their skills in archery\, primitive fire building\, orienteering\, whittling\, and more! 
DTSTART:20240723T080000
DTEND:20240723T130000
SUMMARY:Wild Wanderers Summer Camp | Botna Bend
URL;VALUE=URI:https://www.pottconservation.com/calendar/wild_wanderers_summer_cbotna_bend/2024-07-23/
DTSTAMP:20260424T143834
UID:69ebc6ba46120
END:VEVENT
END:VCALENDAR