BEGIN:VCALENDAR
VERSION:2.0
PRODID:-//hacksw/handcal//NONSGML v1.0//EN
CALSCALE:GREGORIAN
BEGIN:VEVENT
LOCATION:Hitchcock Nature Center\, 27792 Ski Hill Loop\, Honey Creek\, Iowa 51542
DESCRIPTION:Embark on an unforgettable journey into the heart of the wild\, learning about the untamed wonders of the great outdoors while honing skills in archery\, primitive fire building\, orienteering\, whittling\, and more! 
DTSTART:20250617T080000
DTEND:20250617T130000
SUMMARY:Wild Wanderers Summer Camp | Hitchcock Nature Center
URL;VALUE=URI:https://www.pottconservation.com/calendar/wild_wanderers_summer_chitchcock_nature_center/2025-06-17/
DTSTAMP:20260420T174916
UID:69e6ad6c31421
END:VEVENT
END:VCALENDAR