BEGIN:VCALENDAR
VERSION:2.0
PRODID:-//hacksw/handcal//NONSGML v1.0//EN
CALSCALE:GREGORIAN
BEGIN:VEVENT
LOCATION:Hitchcock Nature Center\, 27792 Ski Hill Loop\, Honey Creek\, Iowa 51542
DESCRIPTION:
DTSTART:20220801T130000
DTEND:20220801T150000
SUMMARY:Wildlings: Afternoon All Week Sign Up
URL;VALUE=URI:https://www.pottconservation.com/calendar/wildlings_afternoon_all_week_sign_up/2022-08-01/
DTSTAMP:20260425T095646
UID:69ecd62ec0db8
END:VEVENT
END:VCALENDAR