BEGIN:VCALENDAR
VERSION:2.0
PRODID:-//hacksw/handcal//NONSGML v1.0//EN
CALSCALE:GREGORIAN
BEGIN:VEVENT
LOCATION:Hitchcock Nature Center\, 27792 Ski Hill Loop\, Honey Creek\, Iowa 51542
DESCRIPTION:*Registration for this event is now full.
DTSTART:20220803T090000
DTEND:20220803T110000
SUMMARY:Wildlings: Awesome Amphibians
URL;VALUE=URI:https://www.pottconservation.com/calendar/wildlings_awesome_amphibians/2022-08-03/
DTSTAMP:20260422T072936
UID:69e8bf30e85b5
END:VEVENT
END:VCALENDAR