BEGIN:VCALENDAR
VERSION:2.0
PRODID:-//hacksw/handcal//NONSGML v1.0//EN
CALSCALE:GREGORIAN
BEGIN:VEVENT
LOCATION:Hitchcock Nature Center\, 27792 Ski Hill Loop\, Honey Creek\, Iowa 51542
DESCRIPTION:*Registration for this event is now full.
DTSTART:20220803T130000
DTEND:20220803T150000
SUMMARY:Wildlings: Awesome Amphibians (Afternoon)
URL;VALUE=URI:https://www.pottconservation.com/calendar/wildlings_awesome_amphibians_afternoon/2022-08-03/
DTSTAMP:20260425T095829
UID:69ecd695dd41c
END:VEVENT
END:VCALENDAR