BEGIN:VCALENDAR
VERSION:2.0
PRODID:-//hacksw/handcal//NONSGML v1.0//EN
CALSCALE:GREGORIAN
BEGIN:VEVENT
LOCATION:Hitchcock Nature Center\, 27792 Ski Hill Loop\, Honey Creek\, Iowa 51542
DESCRIPTION:Children age 3 to 5 are invited to join us for some summer camp fun as we learn all about amphibians.
DTSTART:20210804T090000
DTEND:20210804T110000
SUMMARY:Wildlings: Awesome Amphibians\, Morning Session FULL
URL;VALUE=URI:https://www.pottconservation.com/calendar/wildlings_awesome_amphibians_morning_session_full/2021-08-04/
DTSTAMP:20260421T032919
UID:69e7355f95300
END:VEVENT
END:VCALENDAR