BEGIN:VCALENDAR
VERSION:2.0
PRODID:-//hacksw/handcal//NONSGML v1.0//EN
CALSCALE:GREGORIAN
BEGIN:VEVENT
LOCATION:Hitchcock Nature Center\, 27792 Ski Hill Loop\, Honey Creek\, Iowa 51542
DESCRIPTION:Designed for children ages 3 to 5 where they will learn about the amazing world of birds and experience the outdoors.
DTSTART:20220801T130000
DTEND:20220801T150000
SUMMARY:Wildlings: Brilliant Birds (Afternoon)
URL;VALUE=URI:https://www.pottconservation.com/calendar/wildlings_brilliant_birds_afternoon/2022-08-01/
DTSTAMP:20260425T095641
UID:69ecd6293eb2e
END:VEVENT
END:VCALENDAR