BEGIN:VCALENDAR
VERSION:2.0
PRODID:-//hacksw/handcal//NONSGML v1.0//EN
CALSCALE:GREGORIAN
BEGIN:VEVENT
LOCATION:Hitchcock Nature Center\, 27792 Ski Hill Loop\, Honey Creek\, Iowa 51542
DESCRIPTION:Children age 3 to 5 are invited to join us for some summer camp fun as we look to the skies for our feathered friends.
DTSTART:20210806T130000
DTEND:20210806T150000
SUMMARY:Wildlings: Brilliant Birds\, Afternoon Session
URL;VALUE=URI:https://www.pottconservation.com/calendar/wildlings_brilliant_birds_afternoon_session/2021-08-06/
DTSTAMP:20260421T033334
UID:69e7365e37b3c
END:VEVENT
END:VCALENDAR