BEGIN:VCALENDAR
VERSION:2.0
PRODID:-//hacksw/handcal//NONSGML v1.0//EN
CALSCALE:GREGORIAN
BEGIN:VEVENT
LOCATION:Hitchcock Nature Center\, 27792 Ski Hill Loop\, Honey Creek\, Iowa 51542
DESCRIPTION:Children age 3 to 5 are invited to join us for some summer camp fun as we look to the skies for our feathered friends.
DTSTART:20210806T090000
DTEND:20210806T110000
SUMMARY:Wildlings: Brilliant Birds\, Morning Session FULL
URL;VALUE=URI:https://www.pottconservation.com/calendar/wildlings_brilliant_birds_morning_session_full/2021-08-06/
DTSTAMP:20260421T032452
UID:69e73454b0afe
END:VEVENT
END:VCALENDAR