BEGIN:VCALENDAR
VERSION:2.0
PRODID:-//hacksw/handcal//NONSGML v1.0//EN
CALSCALE:GREGORIAN
BEGIN:VEVENT
LOCATION:Hitchcock Nature Center\, 27792 Ski Hill Loop\, Honey Creek\, Iowa 51542
DESCRIPTION:Designed for children ages 3 to 5\, these afternoon camp sessions will introduce your child to the wonders of the great outdoors.
DTSTART:20250729T130000
DTEND:20250729T150000
SUMMARY:Wildlings Camp | Afternoon Session
URL;VALUE=URI:https://www.pottconservation.com/calendar/wildlings_cafternoon_session/2025-07-29/
DTSTAMP:20260420T175253
UID:69e6ae457abfd
END:VEVENT
END:VCALENDAR