BEGIN:VCALENDAR
VERSION:2.0
PRODID:-//hacksw/handcal//NONSGML v1.0//EN
CALSCALE:GREGORIAN
BEGIN:VEVENT
LOCATION:Hitchcock Nature Center\, 27792 Ski Hill Loop\, Honey Creek\, Iowa 51542
DESCRIPTION:Designed for children ages 3 to 5 where they will learn about the magnificent world of mammals and experience the outdoors.
DTSTART:20230803T090000
DTEND:20230803T110000
SUMMARY:Wildlings Camp | Magnificent Mammals (Morning)
URL;VALUE=URI:https://www.pottconservation.com/calendar/wildlings_cmagnificent_mammals_morning/2023-08-03/
DTSTAMP:20260421T192259
UID:69e814e3521e8
END:VEVENT
END:VCALENDAR