BEGIN:VCALENDAR
VERSION:2.0
PRODID:-//hacksw/handcal//NONSGML v1.0//EN
CALSCALE:GREGORIAN
BEGIN:VEVENT
LOCATION:Hitchcock Nature Center\, 27792 Ski Hill Loop\, Honey Creek\, Iowa 51542
DESCRIPTION:Designed for children ages 3 to 5 where they will learn about the awesome world of insects and experience the outdoors.
DTSTART:20220802T130000
DTEND:20220802T150000
SUMMARY:Wildlings: Impressive Insects (Afternoon)
URL;VALUE=URI:https://www.pottconservation.com/calendar/wildlings_impressive_insects_afternoon/2022-08-02/
DTSTAMP:20260425T095508
UID:69ecd5cc374dc
END:VEVENT
END:VCALENDAR