BEGIN:VCALENDAR
VERSION:2.0
PRODID:-//hacksw/handcal//NONSGML v1.0//EN
CALSCALE:GREGORIAN
BEGIN:VEVENT
LOCATION:Hitchcock Nature Center\, 27792 Ski Hill Loop\, Honey Creek\, Iowa 51542
DESCRIPTION:Children age 3 to 5 are invited to join us for some summer camp fun as we learn all about the insects in their own backyards.
DTSTART:20210805T090000
DTEND:20210805T110000
SUMMARY:Wildlings: Impressive Insects\, Morning Session FULL
URL;VALUE=URI:https://www.pottconservation.com/calendar/wildlings_impressive_insects_morning_session_full/2021-08-05/
DTSTAMP:20260421T033119
UID:69e735d72c57a
END:VEVENT
END:VCALENDAR