BEGIN:VCALENDAR
VERSION:2.0
PRODID:-//hacksw/handcal//NONSGML v1.0//EN
CALSCALE:GREGORIAN
BEGIN:VEVENT
LOCATION:Hitchcock Nature Center\, 27792 Ski Hill Loop\, Honey Creek\, Iowa 51542
DESCRIPTION:Children age 3 to 5 are invited to join us for some summer camp fun as we learn all about mammals of the Midwest.
DTSTART:20210803T130000
DTEND:20210803T150000
SUMMARY:Wildlings: Magnificent Mammals\, Afternoon Session
URL;VALUE=URI:https://www.pottconservation.com/calendar/wildlings_magnificent_mammals_afternoon_session/2021-08-03/
DTSTAMP:20260421T034046
UID:69e7380ecabd6
END:VEVENT
END:VCALENDAR