BEGIN:VCALENDAR
VERSION:2.0
PRODID:-//hacksw/handcal//NONSGML v1.0//EN
CALSCALE:GREGORIAN
BEGIN:VEVENT
LOCATION:Hitchcock Nature Center\, 27792 Ski Hill Loop\, Honey Creek\, Iowa 51542
DESCRIPTION:Designed for children ages 3 to 5 where they will learn about the rockin&#039\; world of reptiles and experience the outdoors.
DTSTART:20220805T130000
DTEND:20220805T150000
SUMMARY:Wildlings: Rockin&#039\; Reptiles (Afternoon)
URL;VALUE=URI:https://www.pottconservation.com/calendar/wildlings_rockin_reptiles_afternoon/2022-08-05/
DTSTAMP:20260425T095706
UID:69ecd6429c732
END:VEVENT
END:VCALENDAR