BEGIN:VCALENDAR
VERSION:2.0
PRODID:-//hacksw/handcal//NONSGML v1.0//EN
CALSCALE:GREGORIAN
BEGIN:VEVENT
LOCATION:Hitchcock Nature Center\, 27792 Ski Hill Loop\, Honey Creek\, Iowa 51542
DESCRIPTION:Children age 3 to 5 are invited to join us for some summer camp fun as we learn all about reptiles.
DTSTART:20210802T090000
DTEND:20210802T110000
SUMMARY:Wildlings: Rockin&#039\; Reptiles\, Morning Session  FULL
URL;VALUE=URI:https://www.pottconservation.com/calendar/wildlings_rockin_reptiles_morning_session_full/2021-08-02/
DTSTAMP:20260421T033737
UID:69e73751a6f7e
END:VEVENT
END:VCALENDAR