BEGIN:VCALENDAR
VERSION:2.0
PRODID:-//hacksw/handcal//NONSGML v1.0//EN
CALSCALE:GREGORIAN
BEGIN:VEVENT
LOCATION:Hitchcock Nature Center\, 27792 Ski Hill Loop\, Honey Creek\, Iowa 51542
DESCRIPTION:Explore nature &amp\; philosophy during this immersive program perfect for anyone who loves the great outdoors. 
DTSTART:20211218T090000
DTEND:20211218T120000
SUMMARY:Winter Survival Secrets
URL;VALUE=URI:https://www.pottconservation.com/calendar/winter_survival_secrets/2021-12-18/
DTSTAMP:20260421T094541
UID:69e78d95674e0
END:VEVENT
END:VCALENDAR