BEGIN:VCALENDAR
VERSION:2.0
PRODID:-//hacksw/handcal//NONSGML v1.0//EN
CALSCALE:GREGORIAN
BEGIN:VEVENT
LOCATION:Hitchcock Nature Center\, 27792 Ski Hill Loop\, Honey Creek\, Iowa 51542
DESCRIPTION:Explore nature and philosophy during this immersive program inspired by the great conservationist Aldo Leopold. Perfect for anyone who is looking to build their appreciation for the natural world.
DTSTART:20241214T090000
DTEND:20241214T120000
SUMMARY:Winter Survival Secrets | A Land Ethic Workshop
URL;VALUE=URI:https://www.pottconservation.com/calendar/winter_survival_secrets_a_land_ethic_workshop/2024-12-14/
DTSTAMP:20260420T073128
UID:69e61ca02c605
END:VEVENT
END:VCALENDAR