BEGIN:VCALENDAR
VERSION:2.0
PRODID:-//hacksw/handcal//NONSGML v1.0//EN
CALSCALE:GREGORIAN
BEGIN:VEVENT
LOCATION:Hitchcock Nature Center\, 27792 Ski Hill Loop\, Honey Creek\, Iowa 51542
DESCRIPTION:Enjoy a guided hike through the Loess Hills &amp\; discover the importance of our native landscape in the seasonal folklore and folk magic associated with spring.
DTSTART:20210424T120000
DTEND:20210424T150000
SUMMARY:Witchy Woods Walk: Springtime Edition
URL;VALUE=URI:https://www.pottconservation.com/calendar/witchy_woods_walk_springtime_edition/2021-04-24/
DTSTAMP:20260420T213655
UID:69e6e2c7d6569
END:VEVENT
END:VCALENDAR